BEGIN:VCALENDAR
VERSION:2.0
PRODID:-//ChamberMaster//Event Calendar 2.0//EN
METHOD:PUBLISH
X-PUBLISHED-TTL:P3D
REFRESH-INTERVAL:P3D
CALSCALE:GREGORIAN
BEGIN:VEVENT
DTSTART:20180826T210000Z
DTEND:20180826T220000Z
X-MICROSOFT-CDO-ALLDAYEVENT:FALSE
SUMMARY:Pendulum 101
DESCRIPTION:Dowsing is a method that takes the mystery and the uncertainty out of many of life issues that is right at your fingertips\, literally. Using a pendulum is one method of dowsing. It can work for everyone\, and it goes way beyond yes and no answers.\n\n\n\nLearn how to use dowsing to enrich your life every day\, going way beyond yes/no answers. \n\n\n\nLearn how to clear out negative energies that can directly impact you   making traveling safer for you and your family\, clearing negative energies out houses or building that you spend time in\, and also creating better connections with friends and family. \n\n\n\nUse dowsing to change the energy of actual situations in your life right there in class   not just theoretical but very hands-on and immediately impactful.\n\n\n\nAll students will choose a pendulum before class.
X-ALT-DESC;FMTTYPE=text/html:<span style="background-color:transparent\; color:rgb(29\, 33\, 41)\; font-family:helvetica\,arial\,sans-serif\; font-size:14px">Dowsing is a method that takes the mystery and the uncertainty out of many of life issues that is right at your fingertips\, literally. Using a pendulum is one method of dowsing. It can work for everyone\, and it goes way beyond yes and no answers.</span><br />\n<br />\n<span style="background-color:transparent\; color:rgb(29\, 33\, 41)\; font-family:helvetica\,arial\,sans-serif\; font-size:14px">Learn how to use dowsing to enrich your life every day\, going way beyond yes/no answers. </span><br />\n<br />\n<span style="background-color:transparent\; color:rgb(29\, 33\, 41)\; font-family:helvetica\,arial\,sans-serif\; font-size:14px">Learn how to clear out negative energies that can directly impact you &ndash\; making traveling safer for you and your family\, clearing negative energies out houses or building that you spend time in\, and also creating better connections with friends and family. </span><br />\n<br />\n<span style="background-color:transparent\; color:rgb(29\, 33\, 41)\; font-family:helvetica\,arial\,sans-serif\; font-size:14px">Use dowsing to change the energy of actual situations in your life right there in class &ndash\; not just theoretical but very hands-on and immediately impactful.</span><br />\n<br />\n<span style="background-color:transparent\; color:rgb(29\, 33\, 41)\; font-family:helvetica\,arial\,sans-serif\; font-size:14px">All students will choose a pendulum before class.</span>
LOCATION:Crystal Bowl 8065 Brentwood Blvd
UID:e.1373.3458
SEQUENCE:3
DTSTAMP:20260420T192656Z
URL:https://business.brentwoodchamber.com/events/details/pendulum-101-3458
END:VEVENT

END:VCALENDAR
