BEGIN:VCALENDAR
VERSION:2.0
PRODID:-//ChamberMaster//Event Calendar 2.0//EN
METHOD:PUBLISH
X-PUBLISHED-TTL:P3D
REFRESH-INTERVAL:P3D
CALSCALE:GREGORIAN
BEGIN:VEVENT
DTSTART:20260502T160000Z
DTEND:20260503T000000Z
X-MICROSOFT-CDO-ALLDAYEVENT:FALSE
SUMMARY:?? You're Invited: Tacos & Tequila Pup Party + $15 Off Splash Bath!
DESCRIPTION:Hello\,\n\nGreetings!\n\nGet ready for a tail-wagging good time! ?? Join us for our festive "Tacos & Tequila" Pup Party on Saturday\, May 2nd\, featuring splash baths\, tasty treats\, and plenty of fun from 9:00 AM   5 PM.\n\n? Special Offer: Enjoy $15 OFF a splash bath!\n\n?? Pre-order delicious\, dog-friendly goodies\n\n?? Give your furry friend a fresh\, fiesta-ready glow!\n\nSpots fill up fast\, so be sure to RSVP and secure your pup's place at the party.\n\nPlease find the event flyer attached for more details.\n\nWe can't wait to celebrate with you and your pup!\n\nWarm regards\,\n\nGofrette Pamper & Play Team
X-ALT-DESC;FMTTYPE=text/html:<p>Hello\,</p>\n\n<p>Greetings!</p>\n\n<p>Get ready for a tail-wagging good time! ?? Join us for our festive <strong>&ldquo\;Tacos &amp\; Tequila&rdquo\; Pup Party</strong> on <strong>Saturday\, May 2nd</strong>\, featuring splash baths\, tasty treats\, and plenty of fun from <strong>9:00 AM &ndash\; 5 PM</strong>.</p>\n\n<p>? <strong>Special Offer:</strong> Enjoy <strong>$15 OFF a splash bath!</strong><br />\n?? Pre-order delicious\, dog-friendly goodies<br />\n?? Give your furry friend a fresh\, fiesta-ready glow!</p>\n\n<p>Spots fill up fast\, so be sure to RSVP and secure your pup&rsquo\;s place at the party.</p>\n\n<p>Please find the event flyer attached for more details.</p>\n\n<p>We can&rsquo\;t wait to celebrate with you and your pup!</p>\n\n<p>Warm regards\,<br />\n<strong>Gofrette Pamper &amp\; Play Team</strong></p>\n
LOCATION:Gofrette Pamper & Play 50 Eagle Rock Way Ste B\, Brentwood\, CA 94513
UID:e.1373.23442
SEQUENCE:3
DTSTAMP:20260421T025907Z
URL:https://business.brentwoodchamber.com/events/details/you-re-invited-tacos-tequila-pup-party-15-off-splash-bath-23442
END:VEVENT

END:VCALENDAR
